BEGIN:VCALENDAR
VERSION:2.0
PRODID:-//Société canadienne de génie civil - Région Québec - ECPv4.2//NONSGML v1.0//EN
CALSCALE:GREGORIAN
METHOD:PUBLISH
X-WR-CALNAME:Société canadienne de génie civil - Région Québec
X-ORIGINAL-URL:https://www.scgcquebec.ca
X-WR-CALDESC:Events for Société canadienne de génie civil - Région Québec
BEGIN:VEVENT
DTSTART;TZID=UTC-4:20230426T080000
DTEND;TZID=UTC-4:20230426T170000
DTSTAMP:20260421T092546
CREATED:20230226T172355
LAST-MODIFIED:20230413T031826
UID:2478-1682496000-1682528400@www.scgcquebec.ca
SUMMARY:Designing for Durability: A Look at the Latest CSA S413 Parking Structure Standards
DESCRIPTION:Conférence de la Section Montréal de la SCGC\nLa section Montréal de la SCGC vous invite à assister à une conférence le 26 avril 2023\, où Darren Wint\, ingénieur associé chez RJC Engineering Firm\, sera le conférencier principal. Cette conférence donnera un aperçu de la dernière édition de la norme CSA S413 sur les structures de stationnement et des bonnes pratiques de conception et d'entretien des structures de stationnement. La conférence comprendra également un cocktail de réseautage de 17 h à 20 h\, au cours duquel les participants auront l'occasion de rencontrer notre conférencier principal et d'autres professionnels de l'industrie et de discuter avec eux autour de rafraîchissements.\nMise à jour\nSuite au report de l'événement de février\, nous avons le plaisir de vous informer que nous avons reprogrammé l'événement pour le mercredi 26 avril. L'événement aura lieu à l'ETS dans l'auditorium A-1600 et le cocktail sera servi dans la salle adjacente. En cas de problème\, vous pouvez nous contacter directement à l'adresse montreal@scgcquebec.ca.\nConférence Technique de la SCGC\nRésumé de la présentation\nLa présentation portera sur les modifications de la nouvelle version 2019 de la norme CSA S413 pour les structures de stationnement\, ainsi que sur les bonnes pratiques de conception. Darren Wint\, associé chez RJC Engineering\, sera le conférencier principal et fournira des informations tirées de sa vaste expérience dans le domaine. Plus important encore\, la présentation sera l'occasion pour les participants d'engager des discussions et de poser des questions sur la nouvelle norme et la façon dont elle peut être appliquée dans des projets réels. Ne manquez pas cette occasion de vous tenir informé et d'entrer en contact avec vos pairs dans le domaine de l'ingénierie des structures de stationnement.\nÀ propos du présentateur\n\nDarren Wint est un ingénieur expérimenté qui a conçu des bâtiments commerciaux\, des centres commerciaux\, des tours d'habitation et des infrastructures de transport. Il est particulièrement connu pour la conception de structures de stationnement primées. En tant qu'associé chez RJC Engineers\, Darren a dirigé l'achèvement de plusieurs grandes installations de stationnement pour Metrolinx\, y compris la gare GO d'Erindale\, et il est actuellement le responsable de la conception structurelle pour les gares LRT de Laird\, Leaside et Mt Pleasant dans le cadre du projet Eglinton Crosstown. Il participe aussi activement à l'Association canadienne du stationnement et préside actuellement le comité technique sur les structures de stationnement (CSA S413).\n\nDÉtails\nLa conférence se déroulera en personne. L'inscription est obligatoire sur EventBrite.\nUn cocktail de réseautage gratuit sera offert de 17 h à 20 h.\nLa conférence se déroulera en anglais.\nUn certificat pour les heures de développement professionnel ne sera remis qu'aux personnes présentes.\nLieu : École de technologie supérieure | 1100\, rue Notre-Dame Ouest\, Montréal\, QC H3C 1K3 - Local A-1600\n\n\nÀ propos de la SCGC Montréal\nLa SCGC Montréal est toujours à la recherche de nouveaux sujets innovants et de présentations potentielles pour nos membres. Contactez-nous si vous souhaitez présenter un article ou un compte-rendu de projet à la section de Montréal.\nLa SCGC Montréal est également à la recherche de bénévoles qui souhaitent s'impliquer dans nos activités et qui partagent notre passion pour l'avancement du domaine. Vous pouvez nous contacter directement par courriel ou sur LinkedIn afin que nous puissions vous présenter les opportunités.\nPour plus d'information\, suivez-nous sur LinkedIn ou abonnez-vous à notre infolettre.\nous les liens et publications pertinents se trouvent sur notre Linktree.
URL:https://www.scgcquebec.ca/event/designing-for-durability-a-look-at-the-latest-csa-s413-parking-structure-standards/?lang=en/
LOCATION:1100 Rue Notre-Dame O\, \, Montréal\, Québec\, H3C 1K3\, Canada
CATEGORIES:EN,FR
ATTACH;FMTTYPE=image/png:https://www.scgcquebec.ca/wp-content/uploads/2023/02/BannerPhotoWebsite.png
END:VEVENT
END:VCALENDAR